BEGIN:VCALENDAR
VERSION:2.0
PRODID:-//ChamberMaster//Event Calendar 2.0//EN
METHOD:PUBLISH
X-PUBLISHED-TTL:P3D
REFRESH-INTERVAL:P3D
CALSCALE:GREGORIAN
BEGIN:VEVENT
DTSTART:20221211T020000Z
DTEND:20221211T040000Z
X-MICROSOFT-CDO-ALLDAYEVENT:FALSE
SUMMARY:Lighted Boat Parade
DESCRIPTION:Brightly lit and decorated boats will bring holiday cheer on December 10 at the Petaluma Lighted Boat Parade. Watch the magic happen as the beautifully decorated boats make their way down the Petaluma River. The boat parade leaves the Petaluma Marina at 5:30pm\, and the boats arrive at the Turning Basin around 6:15-6:30 pm. The event is Sponsored by the Petaluma Yacht Club & Petaluma Downtown Association. Petaluma has many unique features\, and the Petaluma River is one of its most important. A family favorite holiday event for decades\, the Holiday Lighted Boat Parade returns in 2022\, giving the Petaluma River a chance to shine. This year\, all types of watercraft will share the spotlight with boats\, kayaks\, Stately yachts\, or one-person stand-up paddleboards\; the spectacle of the lights reflecting off the water is a memorable way to celebrate the season. Boats arrive at Marina at 5:30 for a 6:PM departure. No vessel is too small to join in the fun\, and everyone is welcome. Larger vessels may want to stage in the channel near the entrance of the Marina due to its depth. Please monitor Channel 68 and remember the flotilla is organized from largest to smallest vessels. If you have any questions or would like to register\, please contact Linda Blue at linda.a.blue@gmail.com.
X-ALT-DESC;FMTTYPE=text/html:Brightly lit and decorated boats will bring holiday cheer on December 10 at the Petaluma Lighted Boat Parade. Watch the magic happen as the beautifully decorated boats make their way down the Petaluma River. The boat parade leaves the Petaluma Marina at 5:30pm\, and the boats arrive at the Turning Basin around 6:15-6:30 pm. The event is Sponsored by the Petaluma Yacht Club &amp\; Petaluma Downtown Association. Petaluma has many unique features\, and the Petaluma River is one of its most important. A family favorite holiday event for decades\, the Holiday Lighted Boat Parade returns in 2022\, giving the Petaluma River a chance to shine. This year\, all types of watercraft will share the spotlight with boats\, kayaks\, Stately yachts\, or one-person stand-up paddleboards\; the spectacle of the lights reflecting off the water is a memorable way to celebrate the season. Boats arrive at Marina at 5:30 for a 6:PM departure. No vessel is too small to join in the fun\, and everyone is welcome. Larger vessels may want to stage in the channel near the entrance of the Marina due to its depth. Please monitor Channel 68 and remember the flotilla is organized from largest to smallest vessels. If you have any questions or would like to register\, please contact Linda Blue at linda.a.blue@gmail.com.
LOCATION:Turning Basin Petaluma
UID:e.1308.16587
SEQUENCE:3
DTSTAMP:20260421T030555Z
URL:https://business.petalumachamber.us/events/details/lighted-boat-parade-12-10-2022-16587
END:VEVENT

END:VCALENDAR
