BEGIN:VCALENDAR
VERSION:2.0
PRODID:-//ChamberMaster//Event Calendar 2.0//EN
METHOD:PUBLISH
X-PUBLISHED-TTL:P3D
REFRESH-INTERVAL:P3D
CALSCALE:GREGORIAN
BEGIN:VEVENT
DTSTART:20230219T020000Z
DTEND:20230219T060000Z
X-MICROSOFT-CDO-ALLDAYEVENT:FALSE
SUMMARY:Live Country Concert - Nicole Marden Song Release Party!
DESCRIPTION:Join us for Nicole Marden's Song Release Party at one of Sonoma County's premier concert venues - Coyote Sonoma! Come early for delicious food\, drink specials and an acoustic opening set by Max Vogel. Nicole and her full band take the stage at 8pm to play her newest song\, "Hand Me Down" as well as some of everyone's country favorites. Get your tickets today! Sponsored by Froggy 92.9 and Up N Country with Sue Bonzell. Date: Saturday\, Feb 18\, 2023 Time: VIP Meet & Greet 6pm Show starts at 7-10pm Place: Coyote Sonoma\, Healdsburg Tickets $20 Advance/$25 door - VIP $35 includes unobstructed view seats\, meet and greet\, welcome taste of featured wine\, autographed poster. Ticket link: https://www.coyotesonoma.com/upcoming-events/nicole-marden-2-18-2023
X-ALT-DESC;FMTTYPE=text/html:Join us for Nicole Marden&rsquo\;s Song Release Party at one of Sonoma County&rsquo\;s premier concert venues - Coyote Sonoma! Come early for delicious food\, drink specials and an acoustic opening set by Max Vogel. Nicole and her full band take the stage at 8pm to play her newest song\, &ldquo\;Hand Me Down&rdquo\; as well as some of everyone&rsquo\;s country favorites. Get your tickets today! Sponsored by Froggy 92.9 and Up N Country with Sue Bonzell. Date: Saturday\, Feb 18\, 2023 Time: VIP Meet &amp\; Greet 6pm Show starts at 7-10pm Place: Coyote Sonoma\, Healdsburg Tickets $20 Advance/$25 door - VIP $35 includes unobstructed view seats\, meet and greet\, welcome taste of featured wine\, autographed poster. Ticket link: https://www.coyotesonoma.com/upcoming-events/nicole-marden-2-18-2023
LOCATION:Place: Coyote Sonoma\, Healdsburg 44 Mill St\, Healdsburg\, CA 95448\, United States
UID:e.1308.16603
SEQUENCE:3
DTSTAMP:20260421T013910Z
URL:https://business.petalumachamber.us/events/details/live-country-concert-nicole-marden-song-release-party-16603
END:VEVENT

END:VCALENDAR
