BEGIN:VCALENDAR
VERSION:2.0
PRODID:-//ChamberMaster//Event Calendar 2.0//EN
METHOD:PUBLISH
X-PUBLISHED-TTL:P3D
REFRESH-INTERVAL:P3D
CALSCALE:GREGORIAN
BEGIN:VEVENT
DTSTART:20230625T013000Z
DTEND:20230625T044000Z
X-MICROSOFT-CDO-ALLDAYEVENT:FALSE
SUMMARY:Nashville Comes to Sonoma County – A Benefit Concert
DESCRIPTION:Enjoy electrifying and heart-felt country/Americana music by Nashville multiple Grammy nominees and best singer songwriters Gretchen Peters\, Matraca Berg\, and Steve Seskin. Additional artists will be Fitch Mountaineers and Special Guests. Food and beverages (including wine and beer) will be available for purchase. Lawn seating\, reserved seating and VIP Backstage tickets available at https://www.cloverdaleseniorcenter.org/charity-concert-2023. A portion of the ticket prices is tax deductible. Don't miss this intimate\, outdoor opportunity to see these internationally known performers in Sonoma County. Proceeds will go to our local CERT (Community Emergency Response Team) and the Cloverdale Senior Multipurpose Center\, a 501(c)(3) non-profit organization to benefit emergency preparedness/response and senior support. Age 21+ only event. Non-VIP parking at Cloverdale Airport only\, with a free shuttle to and from the venue. Host websites - https://www.nosococert.org/ and https://www.cloverdaleseniorcenter.org/.
X-ALT-DESC;FMTTYPE=text/html:Enjoy electrifying and heart-felt country/Americana music by Nashville multiple Grammy nominees and best singer songwriters Gretchen Peters\, Matraca Berg\, and Steve Seskin. Additional artists will be Fitch Mountaineers and Special Guests. Food and beverages (including wine and beer) will be available for purchase. Lawn seating\, reserved seating and VIP Backstage tickets available at https://www.cloverdaleseniorcenter.org/charity-concert-2023. A portion of the ticket prices is tax deductible. Don&rsquo\;t miss this intimate\, outdoor opportunity to see these internationally known performers in Sonoma County. Proceeds will go to our local CERT (Community Emergency Response Team) and the Cloverdale Senior Multipurpose Center\, a 501(c)(3) non-profit organization to benefit emergency preparedness/response and senior support. Age 21+ only event. Non-VIP parking at Cloverdale Airport only\, with a free shuttle to and from the venue. Host websites - https://www.nosococert.org/ and https://www.cloverdaleseniorcenter.org/.
LOCATION:Showa Farm 1140 Highland Ranch Road Cloverdale\, CA 95425
UID:e.1308.16619
SEQUENCE:3
DTSTAMP:20260420T194715Z
URL:https://business.petalumachamber.us/events/details/nashville-comes-to-sonoma-county-a-benefit-concert-16619
END:VEVENT

END:VCALENDAR
