BEGIN:VCALENDAR
VERSION:2.0
PRODID:-//ChamberMaster//Event Calendar 2.0//EN
METHOD:PUBLISH
X-PUBLISHED-TTL:P3D
REFRESH-INTERVAL:P3D
CALSCALE:GREGORIAN
BEGIN:VEVENT
DTSTART:20230610T170000Z
DTEND:20230611T020000Z
X-MICROSOFT-CDO-ALLDAYEVENT:FALSE
SUMMARY:National Outlet Shopping Day™ June 10-11
DESCRIPTION:Come celebrate the 2nd annual National Outlet Shopping Day  at the only outlet destination in Sonoma County\, Petaluma Village Premium Outlets. Shoppers will enjoy fantastic finds\, live entertainment\, limited-time giveaways\, and local eats. Bring your little ones for free face painting\, bounce house fun\, lawn games\, and more. \n\n\n\nGet summer ready\, find the perfect gift\, shop back to school\, or treat yourself during the exciting weekend\, filled with fantastic finds on the most sought-after brands including Nike\, Coach\, Levi's\, Eddie Bauer\, Michael Kors\, Tommy Hilfiger and more\, all "celebrating the deal."
X-ALT-DESC;FMTTYPE=text/html:<span style="font-size:14px"><span style="font-family:arial\,helvetica\,sans-serif"><span style="color:rgb(92\, 52\, 40)">Come celebrate the 2nd annual National Outlet Shopping Day&trade\; at the only outlet destination in Sonoma County\, Petaluma Village Premium Outlets.&nbsp\;</span></span></span><span style="color:rgb(92\, 52\, 40)\; font-family:arial\,helvetica\,sans-serif\; font-size:14px">Shoppers will enjoy fantastic finds\, live entertainment\, limited-time giveaways\, and local eats. Bring your little ones for free face painting\, bounce house fun\, lawn games\, and more.&nbsp\;</span><br />\n<br />\n<span style="font-size:14px"><span style="font-family:arial\,helvetica\,sans-serif"><span style="color:rgb(92\, 52\, 40)">Get summer ready\, find the perfect gift\, shop back to school\, or treat yourself during the exciting weekend\,&nbsp\;filled with fantastic finds on the most sought-after brands including Nike\, Coach\, Levi&#39\;s\, Eddie Bauer\, Michael Kors\, Tommy Hilfiger and more\, all &ldquo\;celebrating the deal.&rdquo\;&nbsp\;</span></span></span>
LOCATION:Petaluma Village Premium Outlets is an outdoor village-style shopping center located in Sonoma County just minutes from Downtown Petaluma off US-101 near Exit 476 Old Redwood Highway/ Petaluma Blvd. N. The center is approximately 22 miles from Sonoma County Airport and 60 miles from Oakland International Airport and San Francisco International Airport.
UID:e.1308.16628
SEQUENCE:3
DTSTAMP:20260420T194643Z
URL:https://business.petalumachamber.us/events/details/national-outlet-shopping-day-june-10-11-16628
END:VEVENT

END:VCALENDAR
