BEGIN:VCALENDAR
VERSION:2.0
PRODID:-//ChamberMaster//Event Calendar 2.0//EN
METHOD:PUBLISH
X-PUBLISHED-TTL:P3D
REFRESH-INTERVAL:P3D
CALSCALE:GREGORIAN
BEGIN:VEVENT
DTSTART:20240101T030000Z
DTEND:20240101T060000Z
X-MICROSOFT-CDO-ALLDAYEVENT:FALSE
SUMMARY:New Year’s Eve Gala Concert
DESCRIPTION:The Music of the Masters will resound in Petaluma's acoustically superior "Carnegie Hall" as we ring in the New Year with inspired artistry and great live classical music. Featuring Schubert's beloved "Trout" Quintet and members of the Santa Rosa Symphony. Special Guests: Kyle Craft\, Violin and Rachel Walters Steiner\, Soprano. Come early to hear pre-concert Strauss waltzes while enjoying complimentary wine\, cheese and special Della Fattoria bread. Balcony guests additionally enjoy elite beverage service\, champagne\, and chocolates. We encourage you to get your tickets early\, as this popular event sells out! Doors open at 6pm\, Concert begins at 7.
X-ALT-DESC;FMTTYPE=text/html:The Music of the Masters will resound in Petaluma&rsquo\;s acoustically superior &ldquo\;Carnegie Hall&rdquo\; as we ring in the New Year with inspired artistry and great live classical music. Featuring Schubert&rsquo\;s beloved &ldquo\;Trout&rdquo\; Quintet and members of the Santa Rosa Symphony. Special Guests: Kyle Craft\, Violin and Rachel Walters Steiner\, Soprano. Come early to hear pre-concert Strauss waltzes while enjoying complimentary wine\, cheese and special Della Fattoria bread. Balcony guests additionally enjoy elite beverage service\, champagne\, and chocolates. We encourage you to get your tickets early\, as this popular event sells out! Doors open at 6pm\, Concert begins at 7.
LOCATION:Petaluma Library & Historical Museum\, 20 Fourth St\, Petaluma
UID:e.1308.16996
SEQUENCE:3
DTSTAMP:20260420T094021Z
URL:https://business.petalumachamber.us/events/details/new-year-s-eve-gala-concert-12-31-2023-16996
END:VEVENT

END:VCALENDAR
