BEGIN:VCALENDAR
VERSION:2.0
PRODID:-//ChamberMaster//Event Calendar 2.0//EN
METHOD:PUBLISH
X-PUBLISHED-TTL:P3D
REFRESH-INTERVAL:P3D
CALSCALE:GREGORIAN
BEGIN:VEVENT
DTSTART:20230120T000000Z
DTEND:20230120T020000Z
X-MICROSOFT-CDO-ALLDAYEVENT:FALSE
SUMMARY:North Bay Business Journal 2023 Book of Lists
DESCRIPTION:Have you been waiting to get your North Bay Business Journal 2023 Book of Lists? Now is your chance! Join us at the biggest networking event of the year\, develop professional contacts\, and pick up your free copy of the Book of Lists. We will be hosting an open-house event so you are able to get your hands on a copy - hot off the press. With essential information on leading North Bay businesses and business leaders in over 80 categories\, the 2023 Book of Lists is key to your business's success.
X-ALT-DESC;FMTTYPE=text/html:Have you been waiting to get your North Bay Business Journal 2023 Book of Lists? Now is your chance! Join us at the biggest networking event of the year\, develop professional contacts\, and pick up your free copy of the Book of Lists. We will be hosting an open-house event so you are able to get your hands on a copy - hot off the press. With essential information on leading North Bay businesses and business leaders in over 80 categories\, the 2023 Book of Lists is key to your business&#39\;s success.
LOCATION:Saralee & Richards Barn 1350 Bennett Valley Rd Santa Rosa\, CA 95404
UID:e.1308.16589
SEQUENCE:3
DTSTAMP:20260421T014340Z
URL:https://business.petalumachamber.us/events/details/north-bay-business-journal-2023-book-of-lists-16589
END:VEVENT

END:VCALENDAR
