BEGIN:VCALENDAR
VERSION:2.0
PRODID:-//ChamberMaster//Event Calendar 2.0//EN
METHOD:PUBLISH
X-PUBLISHED-TTL:P3D
REFRESH-INTERVAL:P3D
CALSCALE:GREGORIAN
BEGIN:VEVENT
DTSTART:20230328T163000Z
DTEND:20230328T183000Z
X-MICROSOFT-CDO-ALLDAYEVENT:FALSE
SUMMARY:North Bay Business Journal Business Symposium
DESCRIPTION:Building an Effective Multi-Generational Workplace featuring Jeff Butler Networking and check-in 9:30am - 10:30am Program starts 10:30am Speaker from 10:30am -11:00am Q and A until 11:30am Light pastries and coffee will be served!
X-ALT-DESC;FMTTYPE=text/html:Building an Effective Multi-Generational Workplace featuring Jeff Butler Networking and check-in 9:30am - 10:30am Program starts 10:30am Speaker from 10:30am -11:00am Q and A until 11:30am Light pastries and coffee will be served!
LOCATION:Flamingo Resort 2777 4th Street Santa Rosa\, CA 95405
UID:e.1308.16607
SEQUENCE:3
DTSTAMP:20260420T224050Z
URL:https://business.petalumachamber.us/events/details/north-bay-business-journal-business-symposium-16607
END:VEVENT

END:VCALENDAR
