BEGIN:VCALENDAR
VERSION:2.0
PRODID:-//ChamberMaster//Event Calendar 2.0//EN
METHOD:PUBLISH
X-PUBLISHED-TTL:P3D
REFRESH-INTERVAL:P3D
CALSCALE:GREGORIAN
BEGIN:VEVENT
DTSTART:20230601T144500Z
DTEND:20230601T180000Z
X-MICROSOFT-CDO-ALLDAYEVENT:FALSE
SUMMARY:North Bay Business Journal Economic Outlook Summit 2023
DESCRIPTION:Building a Resilient Workforce: How can businesses respond and adapt to workforce challenges in light of the North Bay 2023 economic outlook?" The North Bay economy\, like many other regions\, has experienced significant workforce challenges. As the region continues to navigate economic uncertainty\, employers are faced with new challenges and opportunities when it comes to recruiting\, retaining\, and developing talent. The upcoming economic outlook conference aims to spotlight a variety of workforce hurdles and possibilities. Presentation: Dr. Robert Eyler\, SSU Economist - Overall North Bay and California economic picture. Presentation: Ryan Bauxbaum Next One Staffing - "Reimagining Recruitment: Practical Strategies\, Tips\, and Techniques for Effective Hiring in Today's Competitive North Bay Job Market." Panel Discussion: "Exploring Creative Solutions for the Shortage of Workers in the North Bay Region." Senator Mike McGuire: Local and Statewide Updates.
X-ALT-DESC;FMTTYPE=text/html:Building a Resilient Workforce: How can businesses respond and adapt to workforce challenges in light of the North Bay 2023 economic outlook?&rdquo\; The North Bay economy\, like many other regions\, has experienced significant workforce challenges. As the region continues to navigate economic uncertainty\, employers are faced with new challenges and opportunities when it comes to recruiting\, retaining\, and developing talent. The upcoming economic outlook conference aims to spotlight a variety of workforce hurdles and possibilities. Presentation: Dr. Robert Eyler\, SSU Economist - Overall North Bay and California economic picture. Presentation: Ryan Bauxbaum Next One Staffing - &quot\;Reimagining Recruitment: Practical Strategies\, Tips\, and Techniques for Effective Hiring in Today&#39\;s Competitive North Bay Job Market.&quot\; Panel Discussion: &quot\;Exploring Creative Solutions for the Shortage of Workers in the North Bay Region.&quot\; Senator Mike McGuire: Local and Statewide Updates.
LOCATION:Sonoma State University Ballroom 1801 E. Cotati Ave Rohnert Park\, CA 94928
UID:e.1308.16627
SEQUENCE:3
DTSTAMP:20260420T194642Z
URL:https://business.petalumachamber.us/events/details/north-bay-business-journal-economic-outlook-summit-2023-16627
END:VEVENT

END:VCALENDAR
