BEGIN:VCALENDAR
VERSION:2.0
PRODID:-//ChamberMaster//Event Calendar 2.0//EN
METHOD:PUBLISH
X-PUBLISHED-TTL:P3D
REFRESH-INTERVAL:P3D
CALSCALE:GREGORIAN
BEGIN:VEVENT
DTSTART;VALUE=DATE:20230925
DTEND;VALUE=DATE:20240101
TRANSP:TRANSPARENT
X-MICROSOFT-CDO-ALLDAYEVENT:TRUE
SUMMARY:Office Available
DESCRIPTION:Keller Street CoWork Searching for a dynamic office space? Look no further! This office is the prefect solution for freelancers\, entrepreneurs\, and small teams. Collaborate\, network\, and thrive in a vibrant environment designed to foster creativity and productivity. Premium Downtown Location.
X-ALT-DESC;FMTTYPE=text/html:Keller Street CoWork Searching for a dynamic office space? Look no further! This office is the prefect solution for freelancers\, entrepreneurs\, and small teams. Collaborate\, network\, and thrive in a vibrant environment designed to foster creativity and productivity. Premium Downtown Location.
LOCATION:Keller Street CoWork 140 Keller Street Petaluma\, Ca 94952
UID:e.1308.16845
SEQUENCE:3
DTSTAMP:20260420T093740Z
URL:https://business.petalumachamber.us/events/details/office-available-16845
END:VEVENT

END:VCALENDAR
