BEGIN:VCALENDAR
VERSION:2.0
PRODID:-//ChamberMaster//Event Calendar 2.0//EN
METHOD:PUBLISH
X-PUBLISHED-TTL:P3D
REFRESH-INTERVAL:P3D
CALSCALE:GREGORIAN
BEGIN:VEVENT
DTSTART:20230818T020000Z
DTEND:20230820T040000Z
X-MICROSOFT-CDO-ALLDAYEVENT:FALSE
SUMMARY:Our Town by Thornton Wilder
DESCRIPTION:Petaluma Readers Theatre presents a true American Classic. "Our Town" by Thornton Wilder\, presented Readers Theatre style! Described by Edward Albee as "the greatest American play ever written"\, it presents the fictional American town of Grover's Corners between 1901 and 1913 through the everyday lives of its citizens. It is an essential play about how we must embrace and appreciate the value of life itself. This is an Equity-Approved Project. Featuring: Marjorie Crump-Shears Judith Abbott Jeff Savage Jennifer March Kathleen York Kendra Murry Ralph Scott Terry Kolkey Carole Barlas Tickets are $10 for children\, $20 for adults Presented by Petaluma Readers Theatre
X-ALT-DESC;FMTTYPE=text/html:Petaluma Readers Theatre presents a true American Classic. &quot\;Our Town&quot\; by Thornton Wilder\, presented Readers Theatre style! Described by Edward Albee as &quot\;the greatest American play ever written&quot\;\, it presents the fictional American town of Grover&#39\;s Corners between 1901 and 1913 through the everyday lives of its citizens. It is an essential play about how we must embrace and appreciate the value of life itself. This is an Equity-Approved Project. Featuring: Marjorie Crump-Shears Judith Abbott Jeff Savage Jennifer March Kathleen York Kendra Murry Ralph Scott Terry Kolkey Carole Barlas Tickets are $10 for children\, $20 for adults Presented by Petaluma Readers Theatre
LOCATION:Polly Klaas Community Theater\, 417 Western Avenue\, Petaluma\, CA 94952
UID:e.1308.16643
SEQUENCE:3
DTSTAMP:20260420T151702Z
URL:https://business.petalumachamber.us/events/details/our-town-by-thornton-wilder-16643
END:VEVENT

END:VCALENDAR
