BEGIN:VCALENDAR
VERSION:2.0
PRODID:-//ChamberMaster//Event Calendar 2.0//EN
METHOD:PUBLISH
X-PUBLISHED-TTL:P3D
REFRESH-INTERVAL:P3D
CALSCALE:GREGORIAN
BEGIN:VEVENT
DTSTART:20230916T170000Z
DTEND:20230916T210000Z
X-MICROSOFT-CDO-ALLDAYEVENT:FALSE
SUMMARY:Path to Health and Wellness
DESCRIPTION:Health organizations\, City of Petaluma\, Sonoma County Health Services and others have joined forces to provide community members with information about health services available to them and ways to live a healthier lifestyle. There will be health screenings\, health resources\, games\, prizes\, food trucks\, and fun for the entire family.
X-ALT-DESC;FMTTYPE=text/html:Health organizations\, City of Petaluma\, Sonoma County Health Services and others have joined forces to provide community members with information about health services available to them and ways to live a healthier lifestyle. There will be health screenings\, health resources\, games\, prizes\, food trucks\, and fun for the entire family.
LOCATION:Petaluma Community Center\, 320 N. McDowell Blvd\, Petaluma.
UID:e.1308.16839
SEQUENCE:3
DTSTAMP:20260420T140105Z
URL:https://business.petalumachamber.us/events/details/path-to-health-and-wellness-16839
END:VEVENT

END:VCALENDAR
