BEGIN:VCALENDAR
VERSION:2.0
PRODID:-//ChamberMaster//Event Calendar 2.0//EN
METHOD:PUBLISH
X-PUBLISHED-TTL:P3D
REFRESH-INTERVAL:P3D
CALSCALE:GREGORIAN
BEGIN:VEVENT
DTSTART:20230917T003000Z
DTEND:20230917T060000Z
X-MICROSOFT-CDO-ALLDAYEVENT:FALSE
SUMMARY:PEF BASH: School of Rock
DESCRIPTION:Our annual PEF BASH fundraising event this year has the theme School of Rock\, taking place on September 16\, 2023. This celebration of schools provides support for the mission of PEF\, serving more than 12\,000 Petaluma area students. The gala evening includes dinner\, dancing\, and live and silent auctions that will attract up to 375 guests. The Petaluma Educational Foundation is celebrating over four decades of enhancing excellence in education for all 36 TK-12 public and private non-profit schools in the Petaluma area.
X-ALT-DESC;FMTTYPE=text/html:Our annual PEF BASH fundraising event this year has the theme School of Rock\, taking place on September 16\, 2023. This celebration of schools provides support for the mission of PEF\, serving more than 12\,000 Petaluma area students. The gala evening includes dinner\, dancing\, and live and silent auctions that will attract up to 375 guests. The Petaluma Educational Foundation is celebrating over four decades of enhancing excellence in education for all 36 TK-12 public and private non-profit schools in the Petaluma area.
LOCATION:The Barn at Gambonini Ranch
UID:e.1308.16630
SEQUENCE:3
DTSTAMP:20260420T135430Z
URL:https://business.petalumachamber.us/events/details/pef-bash-school-of-rock-16630
END:VEVENT

END:VCALENDAR
