BEGIN:VCALENDAR
VERSION:2.0
PRODID:-//ChamberMaster//Event Calendar 2.0//EN
METHOD:PUBLISH
X-PUBLISHED-TTL:P3D
REFRESH-INTERVAL:P3D
CALSCALE:GREGORIAN
BEGIN:VEVENT
DTSTART:20220710T180000Z
DTEND:20220711T000000Z
X-MICROSOFT-CDO-ALLDAYEVENT:FALSE
SUMMARY:Petaluma Art & Garden Festival 2022
DESCRIPTION:The Art & Garden festival is one of Petaluma's most loved events! Join us for a fun filled day for all the family. Local crafters\, artisans\, gardeners\, live music\, and an array of local wineries\, breweries\, restaurants\, and fine food purveyors will be participating. This event is free to attend with Tasting Packages available to those who wish to partake in all the great wine\, craft beer\, cocktails\, and more. Not the typical street fair\, vendors are handpicked and will be showcasing quality\, creative home and garden d cor\, jewelry\, arts\, and more. With 145 booths of unusual\, unique\, handmade items\, this event has something for everyone's taste and budget. While parents are eating and dancing\, kids can enjoy will the kids zone with FREE hands-on arts and crafts\, face painting\, bounce house\, and more! Bring your own washable chalk and have fun with your friends\, your kids\, or just by yourself at the free Chalk Art Competition\, taking place from 11 am to 4 pm. Check the website for more information!
X-ALT-DESC;FMTTYPE=text/html:The Art &amp\; Garden festival is one of Petaluma&#39\;s most loved events! Join us for a fun filled day for all the family. Local crafters\, artisans\, gardeners\, live music\, and an array of local wineries\, breweries\, restaurants\, and fine food purveyors will be participating. This event is free to attend with Tasting Packages available to those who wish to partake in all the great wine\, craft beer\, cocktails\, and more. Not the typical street fair\, vendors are handpicked and will be showcasing quality\, creative home and garden d&eacute\;cor\, jewelry\, arts\, and more. With 145 booths of unusual\, unique\, handmade items\, this event has something for everyone&rsquo\;s taste and budget. While parents are eating and dancing\, kids can enjoy will the kids zone with FREE hands-on arts and crafts\, face painting\, bounce house\, and more! Bring your own washable chalk and have fun with your friends\, your kids\, or just by yourself at the free Chalk Art Competition\, taking place from 11 am to 4 pm. Check the website for more information!
LOCATION:Downtown Petaluma
UID:e.1308.16551
SEQUENCE:3
DTSTAMP:20260421T102859Z
URL:https://business.petalumachamber.us/events/details/petaluma-art-garden-festival-2022-16551
END:VEVENT

END:VCALENDAR
