BEGIN:VCALENDAR
VERSION:2.0
PRODID:-//ChamberMaster//Event Calendar 2.0//EN
METHOD:PUBLISH
X-PUBLISHED-TTL:P3D
REFRESH-INTERVAL:P3D
CALSCALE:GREGORIAN
BEGIN:VEVENT
DTSTART:20231202T190000Z
DTEND:20231203T010000Z
X-MICROSOFT-CDO-ALLDAYEVENT:FALSE
SUMMARY:Petaluma Downtown Holiday Marketplace & Merchant Open House
DESCRIPTION:Gather your friends and family\, and head to Downtown Petaluma to kick off the holiday season! Start off your day in downtown Petaluma with breakfast at one of our delicious cafes\, then follow with a stroll through the maker's marketplace on Kentucky Street ~ showcasing local vendors and Downtown Businesses selling that perfect holiday gift. There will be live holiday music from The Pacific Empire Chorus\, dancing performances from The Apple Tree Morris Dancers\, balloon animals & face painting for the kids. Santa & Mrs. Claus will be joining to take pictures and Christmas lists! Treat yourself to lunch at an array of excellent downtown restaurants & cafes\, and continue to discover the plethora of small independent stores welcoming you with holiday cheer\, tasty goodies\, and great festive deals for the Holiday Open House! Visit PetalumaDowntown.com for more information!
X-ALT-DESC;FMTTYPE=text/html:Gather your friends and family\, and head to Downtown Petaluma to kick off the holiday season! Start off your day in downtown Petaluma with breakfast at one of our delicious cafes\, then follow with a stroll through the maker&#39\;s marketplace on Kentucky Street ~ showcasing local vendors and Downtown Businesses selling that perfect holiday gift. There will be live holiday music from The Pacific Empire Chorus\, dancing performances from The Apple Tree Morris Dancers\, balloon animals &amp\; face painting for the kids. Santa &amp\; Mrs. Claus will be joining to take pictures and Christmas lists! Treat yourself to lunch at an array of excellent downtown restaurants &amp\; cafes\, and continue to discover the plethora of small independent stores welcoming you with holiday cheer\, tasty goodies\, and great festive deals for the Holiday Open House! Visit PetalumaDowntown.com for more information!
LOCATION:Downtown Petaluma
UID:e.1308.16857
SEQUENCE:3
DTSTAMP:20260420T100856Z
URL:https://business.petalumachamber.us/events/details/petaluma-downtown-holiday-marketplace-merchant-open-house-16857
END:VEVENT

END:VCALENDAR
