BEGIN:VCALENDAR
VERSION:2.0
PRODID:-//ChamberMaster//Event Calendar 2.0//EN
METHOD:PUBLISH
X-PUBLISHED-TTL:P3D
REFRESH-INTERVAL:P3D
CALSCALE:GREGORIAN
BEGIN:VEVENT
DTSTART:20221203T190000Z
DTEND:20221204T010000Z
X-MICROSOFT-CDO-ALLDAYEVENT:FALSE
SUMMARY:Petaluma Merchant Holiday Open House & Kentucky Street Marketplace
DESCRIPTION:Gather your friends and family\, the Holidays have arrived! Start off your day in downtown Petaluma with breakfast at one of our delicious cafes\, then follow with a stroll through the makers marketplace on Kentucky Street ~ showcasing local vendors and Downtown Businesses selling that perfect holiday gift! There will be live holiday music and facepainting! Santa & Mrs. Claus will be there for a fun Downtown Photo op. Grab some lunch or a snack at one of the nearby restaurants before continuing your tour of the various festive downtown stores who will be welcoming you in with holiday cheer\, tasty goodies\, and great festive deals for the Holiday Open House! Visit PetalumaDowntown.com for more information!
X-ALT-DESC;FMTTYPE=text/html:Gather your friends and family\, the Holidays have arrived! Start off your day in downtown Petaluma with breakfast at one of our delicious cafes\, then follow with a stroll through the makers marketplace on Kentucky Street ~ showcasing local vendors and Downtown Businesses selling that perfect holiday gift! There will be live holiday music and facepainting! Santa &amp\; Mrs. Claus will be there for a fun Downtown Photo op. Grab some lunch or a snack at one of the nearby restaurants before continuing your tour of the various festive downtown stores who will be welcoming you in with holiday cheer\, tasty goodies\, and great festive deals for the Holiday Open House! Visit PetalumaDowntown.com for more information!
LOCATION:Downtown Petaluma
UID:e.1308.16579
SEQUENCE:3
DTSTAMP:20260421T033233Z
URL:https://business.petalumachamber.us/events/details/petaluma-merchant-holiday-open-house-kentucky-street-marketplace-16579
END:VEVENT

END:VCALENDAR
