BEGIN:VCALENDAR
VERSION:2.0
PRODID:-//ChamberMaster//Event Calendar 2.0//EN
METHOD:PUBLISH
X-PUBLISHED-TTL:P3D
REFRESH-INTERVAL:P3D
CALSCALE:GREGORIAN
BEGIN:VEVENT
DTSTART:20220910T200000Z
DTEND:20220911T000000Z
X-MICROSOFT-CDO-ALLDAYEVENT:FALSE
SUMMARY:Petaluma River Craft Beer Fest
DESCRIPTION:Local craft breweries offer samples of their brews. Music and activities on the Petaluma River. Food available for purchase inside the fest.
X-ALT-DESC;FMTTYPE=text/html:Local craft breweries offer samples of their brews. Music and activities on the Petaluma River. Food available for purchase inside the fest.
LOCATION:Water Street. Enter near Central Market
UID:e.1308.16538
SEQUENCE:3
DTSTAMP:20260421T072646Z
URL:https://business.petalumachamber.us/events/details/petaluma-river-craft-beer-fest-16538
END:VEVENT

END:VCALENDAR
