BEGIN:VCALENDAR
VERSION:2.0
PRODID:-//ChamberMaster//Event Calendar 2.0//EN
METHOD:PUBLISH
X-PUBLISHED-TTL:P3D
REFRESH-INTERVAL:P3D
CALSCALE:GREGORIAN
BEGIN:VEVENT
DTSTART:20260430T000000Z
DTEND:20260430T020000Z
X-MICROSOFT-CDO-ALLDAYEVENT:FALSE
SUMMARY:Petaluma & Rohnert Park Women in Business Mixer
DESCRIPTION:Petaluma & Rohnert Park Women in Business Mixer
X-ALT-DESC;FMTTYPE=text/html:Petaluma &amp\; Rohnert Park Women in Business Mixer
LOCATION:Motivate with Mel / W.H.I.S.P. 6 Petaluma Blvd N Suite 10 Petaluma
UID:e.1308.18048
SEQUENCE:3
DTSTAMP:20260422T011432Z
URL:https://business.petalumachamber.us/events/details/petaluma-rohnert-park-women-in-business-mixer-18048
END:VEVENT

END:VCALENDAR
