BEGIN:VCALENDAR
VERSION:2.0
PRODID:-//ChamberMaster//Event Calendar 2.0//EN
METHOD:PUBLISH
X-PUBLISHED-TTL:P3D
REFRESH-INTERVAL:P3D
CALSCALE:GREGORIAN
BEGIN:VEVENT
DTSTART:20230627T170000Z
DTEND:20230627T220000Z
X-MICROSOFT-CDO-ALLDAYEVENT:FALSE
SUMMARY:Petaluma Woman's Club Blood Drive
DESCRIPTION:TUESDAY\, June 27\, 10am   3:00pm Please join us for a Blood Drive at Petaluma Woman's Club - Bloodmobile\, 518 B St\, Petaluma\, CA 94954. To make an appointment\, visit donors.vitalant.org. Enter blood drive code: PWC or call 877.258.4825. Appointments are strongly encouraged. Help end the critical blood shortage by making your blood donation June 27\, or at another mobile blood drive or center near you!
X-ALT-DESC;FMTTYPE=text/html:TUESDAY\, June 27\, 10am &ndash\; 3:00pm Please join us for a Blood Drive at Petaluma Woman&#39\;s Club - Bloodmobile\, 518 B St\, Petaluma\, CA 94954. To make an appointment\, visit donors.vitalant.org. Enter blood drive code: PWC or call 877.258.4825. Appointments are strongly encouraged. Help end the critical blood shortage by making your blood donation June 27\, or at another mobile blood drive or center near you!
LOCATION:518 B St Petaluma\, CA 94954
UID:e.1308.16635
SEQUENCE:3
DTSTAMP:20260420T183353Z
URL:https://business.petalumachamber.us/events/details/petaluma-woman-s-club-blood-drive-16635
END:VEVENT

END:VCALENDAR
