BEGIN:VCALENDAR
VERSION:2.0
PRODID:-//ChamberMaster//Event Calendar 2.0//EN
METHOD:PUBLISH
X-PUBLISHED-TTL:P3D
REFRESH-INTERVAL:P3D
CALSCALE:GREGORIAN
BEGIN:VEVENT
DTSTART:20260502T220000Z
DTEND:20260502T230000Z
X-MICROSOFT-CDO-ALLDAYEVENT:FALSE
SUMMARY:Petaluma Women's Chorus Spring Concert
DESCRIPTION:The Petaluma Women's Chorus presents its Spring concert on Saturday May 2nd. We'll showcase a variety of upbeat music.
X-ALT-DESC;FMTTYPE=text/html:The Petaluma Women&#39\;s Chorus presents its Spring concert on Saturday May 2nd. We&#39\;ll showcase a variety of upbeat music.&nbsp\;
LOCATION:United Church of Christ 825 Middlefield Drive\, Petaluma\, CA
UID:e.1308.18044
SEQUENCE:3
DTSTAMP:20260421T111405Z
URL:https://business.petalumachamber.us/events/details/petaluma-women-s-chorus-spring-concert-18044
END:VEVENT

END:VCALENDAR
