BEGIN:VCALENDAR
VERSION:2.0
PRODID:-//ChamberMaster//Event Calendar 2.0//EN
METHOD:PUBLISH
X-PUBLISHED-TTL:P3D
REFRESH-INTERVAL:P3D
CALSCALE:GREGORIAN
BEGIN:VEVENT
DTSTART:20221020T010000Z
DTEND:20221020T020000Z
X-MICROSOFT-CDO-ALLDAYEVENT:FALSE
SUMMARY:Resourcing The Sacred Self
DESCRIPTION:Resourcing the Sacred Self Explore self regulation techniques that help to bring peace and calm to the sacred one within. Each of us have a sacred spirit within our being that longs for our own attention. Through the challenges of life\, trauma\, and just simply not knowing\, we negate the wisdom of our sacred self and live from a place of separation and disregulation. Resourcing the sacred self is an opportunity to slow down\, use the breath\, visualization and self touch to calm the nervous system and enter a state of profound peace. If you aren't still\, how can you receive. I look forward to sharing this beautiful presentation with you. To learn more about the presenter visit her website: www.spiritfullwoman.com Doors open at 6pm Presentation starts at 6:30pm This is a free event. Space is limited. RSVP at www.GYWOPetaluma.com to reserve your spot
X-ALT-DESC;FMTTYPE=text/html:Resourcing the Sacred Self Explore self regulation techniques that help to bring peace and calm to the sacred one within. Each of us have a sacred spirit within our being that longs for our own attention. Through the challenges of life\, trauma\, and just simply not knowing\, we negate the wisdom of our sacred self and live from a place of separation and disregulation. Resourcing the sacred self is an opportunity to slow down\, use the breath\, visualization and self touch to calm the nervous system and enter a state of profound peace. If you aren&rsquo\;t still\, how can you receive. I look forward to sharing this beautiful presentation with you. To learn more about the presenter visit her website: www.spiritfullwoman.com Doors open at 6pm Presentation starts at 6:30pm This is a free event. Space is limited. RSVP at www.GYWOPetaluma.com to reserve your spot
LOCATION:Luminary Education Center
UID:e.1308.16570
SEQUENCE:3
DTSTAMP:20260421T055429Z
URL:https://business.petalumachamber.us/events/details/resourcing-the-sacred-self-16570
END:VEVENT

END:VCALENDAR
