BEGIN:VCALENDAR
VERSION:2.0
PRODID:-//ChamberMaster//Event Calendar 2.0//EN
METHOD:PUBLISH
X-PUBLISHED-TTL:P3D
REFRESH-INTERVAL:P3D
CALSCALE:GREGORIAN
BEGIN:VEVENT
DTSTART:20231203T000000Z
DTEND:20231203T020000Z
X-MICROSOFT-CDO-ALLDAYEVENT:FALSE
SUMMARY:Sip\, Sign & Shop
DESCRIPTION:Festive afternoon of holiday shopping\, champagne sipping and book signings with local authors! A chance to become a member of the Petaluma Museum Association or celebrate your membership. Chat with local authors Katherine Rinehart\, Petaluma: A History in Architecture\; Alan Butler\, Of Mills & the River\; Jeane Sloane\, She Was An American Combat Nurse During World War II\; and KC Greaney and Alice Van Ommeren\, Petaluma in Vintage Postcards\; and have them sign your copy of their book. Enjoy the gorgeous permanent collection and peruse the current show "Women in the Military."
X-ALT-DESC;FMTTYPE=text/html:Festive afternoon of holiday shopping\, champagne sipping and book signings with local authors! A chance to become a member of the Petaluma Museum Association or celebrate your membership. Chat with local authors Katherine Rinehart\, Petaluma: A History in Architecture\; Alan Butler\, Of Mills &amp\; the River\; Jeane Sloane\, She Was An American Combat Nurse During World War II\; and KC Greaney and Alice Van Ommeren\, Petaluma in Vintage Postcards\; and have them sign your copy of their book. Enjoy the gorgeous permanent collection and peruse the current show &ldquo\;Women in the Military.&rdquo\;
LOCATION:Petaluma Historical Library & Museum\, 20 Fourth Street\, Petaluma 94952
UID:e.1308.16856
SEQUENCE:3
DTSTAMP:20260420T093841Z
URL:https://business.petalumachamber.us/events/details/sip-sign-shop-16856
END:VEVENT

END:VCALENDAR
