BEGIN:VCALENDAR
VERSION:2.0
PRODID:-//ChamberMaster//Event Calendar 2.0//EN
METHOD:PUBLISH
X-PUBLISHED-TTL:P3D
REFRESH-INTERVAL:P3D
CALSCALE:GREGORIAN
BEGIN:VEVENT
DTSTART:20231021T200000Z
DTEND:20231021T230000Z
X-MICROSOFT-CDO-ALLDAYEVENT:FALSE
SUMMARY:Sonoma County Gazette Community Hero Expo
DESCRIPTION:Sonoma County Gazette Community Hero Expo Free Community Event This event aims to celebrate community heroes who make our county a fun\, safe\, and healthy place to live. There will be an opportunity for families to interact with community heroes\, and even dress up as a favorite hero.
X-ALT-DESC;FMTTYPE=text/html:Sonoma County Gazette Community Hero Expo Free Community Event This event aims to celebrate community heroes who make our county a fun\, safe\, and healthy place to live. There will be an opportunity for families to interact with community heroes\, and even dress up as a favorite hero.
LOCATION:Boys & Girls Club of Sonoma-Marin Roseland Community Clubhouse
UID:e.1308.16849
SEQUENCE:3
DTSTAMP:20260420T123530Z
URL:https://business.petalumachamber.us/events/details/sonoma-county-gazette-community-hero-expo-16849
END:VEVENT

END:VCALENDAR
