BEGIN:VCALENDAR
VERSION:2.0
PRODID:-//ChamberMaster//Event Calendar 2.0//EN
METHOD:PUBLISH
X-PUBLISHED-TTL:P3D
REFRESH-INTERVAL:P3D
CALSCALE:GREGORIAN
BEGIN:VEVENT
DTSTART:20230923T230000Z
DTEND:20230924T020000Z
X-MICROSOFT-CDO-ALLDAYEVENT:FALSE
SUMMARY:SRJC Petaluma Building Futures Fundraiser
DESCRIPTION:Join us for an evening of food\, wine\, music\, and fun to hear stories of student success and meet our new Superintendent/President\, all in support of the new Construction Training Center!  Meet SRJC Superintendent/President Dr. Ang lica Garcia Emceed by CA State Senate Majority Leader Mike McGuire Hosted by KRON4's Ken Wayne & Friends of Petaluma Campus Food by Jimmy's Catering Company Music by Petty Rocks
X-ALT-DESC;FMTTYPE=text/html:Join us for an evening of food\, wine\, music\, and fun to hear stories of student success and meet our new Superintendent/President\, all in support of the new Construction Training Center! &bull\;Meet SRJC Superintendent/President Dr. Ang&eacute\;lica Garcia Emceed by CA State Senate Majority Leader Mike McGuire Hosted by KRON4&#39\;s Ken Wayne &amp\; Friends of Petaluma Campus Food by Jimmy&#39\;s Catering Company Music by Petty Rocks
LOCATION:SRJC Petaluma Campus (Sonoma Mountain Parkway\, Petaluma)
UID:e.1308.16642
SEQUENCE:3
DTSTAMP:20260420T152015Z
URL:https://business.petalumachamber.us/events/details/srjc-petaluma-building-futures-fundraiser-16642
END:VEVENT

END:VCALENDAR
