BEGIN:VCALENDAR
VERSION:2.0
PRODID:-//ChamberMaster//Event Calendar 2.0//EN
METHOD:PUBLISH
X-PUBLISHED-TTL:P3D
REFRESH-INTERVAL:P3D
CALSCALE:GREGORIAN
BEGIN:VEVENT
DTSTART:20220515T000000Z
DTEND:20220515T010000Z
X-MICROSOFT-CDO-ALLDAYEVENT:FALSE
SUMMARY:Stars of the Sonoma Serengeti
DESCRIPTION:Tune in virtually from your native habitat! It's the next best thing to being here in person! Join Kubwa\, our giraffe buddy\, as we showcase the unique and engaging Safari West Live educational experience. You'll see an array of animals during our fully interactive\, live-stream safari tour\, perhaps meeting a giraffe or rhino up close\, or some other wild adventure! Along the way\, we will be asking you to help us raise money for our educational programs\, headlined by Safari West Live   money that goes directly to help the children who need it most.
X-ALT-DESC;FMTTYPE=text/html:Tune in virtually from your native habitat! It&rsquo\;s the next best thing to being here in person! Join Kubwa\, our giraffe buddy\, as we showcase the unique and engaging Safari West Live educational experience. You&rsquo\;ll see an array of animals during our fully interactive\, live-stream safari tour\, perhaps meeting a giraffe or rhino up close\, or some other wild adventure! Along the way\, we will be asking you to help us raise money for our educational programs\, headlined by Safari West Live &ndash\; money that goes directly to help the children who need it most.
LOCATION:Safari West
UID:e.1308.16542
SEQUENCE:3
DTSTAMP:20260421T142340Z
URL:https://business.petalumachamber.us/events/details/stars-of-the-sonoma-serengeti-16542
END:VEVENT

END:VCALENDAR
