BEGIN:VCALENDAR
VERSION:2.0
PRODID:-//ChamberMaster//Event Calendar 2.0//EN
METHOD:PUBLISH
X-PUBLISHED-TTL:P3D
REFRESH-INTERVAL:P3D
CALSCALE:GREGORIAN
BEGIN:VEVENT
DTSTART:20231007T170000Z
DTEND:20231007T230000Z
X-MICROSOFT-CDO-ALLDAYEVENT:FALSE
SUMMARY:Start or Grow Your Resellers Business
DESCRIPTION:A Simple Blueprint and Solid Business Plan For Having A Successful Resellers Business Five-Hour In-Person Seminar By The Owners of Sonoma County Sales We grew Sonoma County Sales from a few small items\, into the now successful operation with thousands of items located in over 10\,000 square feet of warehouse space. We are offering this seminar at our office and warehouses where we will share how we run our reseller business. We will talk about and demonstrate all aspects of the business--including our successes and failures--in an interactive\, hands-on\, fun setting\, which will provide the participants a detailed insight into our business\, and the field in general\, so they can make an educated and informed decision as to whether this is a business they would like to start and operate as well. When: Saturday\, October 7th\, 2023 10:00 AM   4:00 PM (1-hour lunch on your own) Where: At the Sonoma County Sales office and warehouses\, 621 Carlson Ct #2\, Rohnert Park\, CA Instructors: Danise & Ed Mueller\, Owners of Sonoma County Sales Five-Hour In-Person Seminar Fee: $275 After attending the seminar\, participants will have the option to attend these follow-up opportunities: Four-Hour In-Office / Warehouse Workshop (Five Students Per Workshop Maximum) $250 each workshop Twenty-Hour Real-Time Course\, Observing the Day-To-Day Business Operations of Acquiring Inventory\, Listing Online\, and Handling the Sales (Four Students Maximum) $500 for 20 hours Contact Danise 509-840-0306 or Ed 707-548-5250 symbiquestmarketplace@gmail.com www.symbiquestcorp.com (go to the Events page)
X-ALT-DESC;FMTTYPE=text/html:A Simple Blueprint and Solid Business Plan For Having A Successful Resellers Business Five-Hour In-Person Seminar By The Owners of Sonoma County Sales We grew Sonoma County Sales from a few small items\, into the now successful operation with thousands of items located in over 10\,000 square feet of warehouse space. We are offering this seminar at our office and warehouses where we will share how we run our reseller business. We will talk about and demonstrate all aspects of the business--including our successes and failures--in an interactive\, hands-on\, fun setting\, which will provide the participants a detailed insight into our business\, and the field in general\, so they can make an educated and informed decision as to whether this is a business they would like to start and operate as well. When: Saturday\, October 7th\, 2023 10:00 AM &ndash\; 4:00 PM (1-hour lunch on your own) Where: At the Sonoma County Sales office and warehouses\, 621 Carlson Ct #2\, Rohnert Park\, CA Instructors: Danise &amp\; Ed Mueller\, Owners of Sonoma County Sales Five-Hour In-Person Seminar Fee: $275 After attending the seminar\, participants will have the option to attend these follow-up opportunities: Four-Hour In-Office / Warehouse Workshop (Five Students Per Workshop Maximum) $250 each workshop Twenty-Hour Real-Time Course\, Observing the Day-To-Day Business Operations of Acquiring Inventory\, Listing Online\, and Handling the Sales (Four Students Maximum) $500 for 20 hours Contact Danise 509-840-0306 or Ed 707-548-5250 symbiquestmarketplace@gmail.com www.symbiquestcorp.com (go to the Events page)
LOCATION:Sonoma County Sales 621 Carlson Ct #2 Rohnert Park\, CA 94928
UID:e.1308.16841
SEQUENCE:3
DTSTAMP:20260420T125449Z
URL:https://business.petalumachamber.us/events/details/start-or-grow-your-resellers-business-16841
END:VEVENT

END:VCALENDAR
