BEGIN:VCALENDAR
VERSION:2.0
PRODID:-//ChamberMaster//Event Calendar 2.0//EN
METHOD:PUBLISH
X-PUBLISHED-TTL:P3D
REFRESH-INTERVAL:P3D
CALSCALE:GREGORIAN
BEGIN:VEVENT
DTSTART;VALUE=DATE:20220721
DTEND;VALUE=DATE:20220724
TRANSP:TRANSPARENT
X-MICROSOFT-CDO-ALLDAYEVENT:TRUE
SUMMARY:Summer Sidewalk Sale
DESCRIPTION:Join us for the annual Downtown Sidewalk Sale\, taking place Thursday\, July 21 through Saturday\, July 23\, 2022 (some merchants will also be extending their sales through Sunday). Independent stores and restaurants are a vital part of the special character of Downtown Petaluma. The Sidewalk Sale is a perfect opportunity to do your part in keeping Petaluma retail alive and take home some great items at a fraction of the cost! Join us for a stroll\, grab a coffee\, lunch\, and enjoy a fun shopping experience at the Downtown Summer Sidewalk Sale\, Thurs-Sat\, July 21-23.
X-ALT-DESC;FMTTYPE=text/html:Join us for the annual Downtown Sidewalk Sale\, taking place Thursday\, July 21 through Saturday\, July 23\, 2022 (some merchants will also be extending their sales through Sunday). Independent stores and restaurants are a vital part of the special character of Downtown Petaluma. The Sidewalk Sale is a perfect opportunity to do your part in keeping Petaluma retail alive and take home some great items at a fraction of the cost! Join us for a stroll\, grab a coffee\, lunch\, and enjoy a fun shopping experience at the Downtown Summer Sidewalk Sale\, Thurs-Sat\, July 21-23.
LOCATION:Downtown Petaluma
UID:e.1308.16558
SEQUENCE:3
DTSTAMP:20260421T101525Z
URL:https://business.petalumachamber.us/events/details/summer-sidewalk-sale-16558
END:VEVENT

END:VCALENDAR
