BEGIN:VCALENDAR
VERSION:2.0
PRODID:-//ChamberMaster//Event Calendar 2.0//EN
METHOD:PUBLISH
X-PUBLISHED-TTL:P3D
REFRESH-INTERVAL:P3D
CALSCALE:GREGORIAN
BEGIN:VEVENT
DTSTART:20160821T210000Z
DTEND:20160821T223000Z
X-MICROSOFT-CDO-ALLDAYEVENT:FALSE
SUMMARY:Talk: Stone Age Economics
DESCRIPTION:Breck Parkman\, Senior State Archaeologist and Tribal Liaison\, California State Parks\, Bay Area & Sonoma-Mendocino Coast Districts\, will discuss "Stone Age Economics." A look at four basic "Business" concepts found among local California tribes during Pre-Contact times: Wealth (obsidian trade)\, Productivity (basketry)\, Growth (acorn technology) and Globalization (shell bead money).
X-ALT-DESC;FMTTYPE=text/html:Breck Parkman\, Senior State Archaeologist and Tribal Liaison\, California State Parks\, Bay Area &amp\; Sonoma-Mendocino Coast Districts\, will discuss &quot\;Stone Age Economics.&quot\; A look at four basic &quot\;Business&quot\; concepts found among local California tribes during Pre-Contact times: Wealth (obsidian trade)\, Productivity (basketry)\, Growth (acorn technology) and Globalization (shell bead money).
LOCATION:Petaluma Historical Library and Museum 20 fourth St.\, Petaluma
UID:e.1308.7206
SEQUENCE:3
DTSTAMP:20260426T005602Z
URL:https://business.petalumachamber.us/events/details/talk-stone-age-economics-08-21-2016-7206
END:VEVENT

END:VCALENDAR
