BEGIN:VCALENDAR
VERSION:2.0
PRODID:-//ChamberMaster//Event Calendar 2.0//EN
METHOD:PUBLISH
X-PUBLISHED-TTL:P3D
REFRESH-INTERVAL:P3D
CALSCALE:GREGORIAN
BEGIN:VEVENT
DTSTART:20230617T000000Z
DTEND:20230703T050000Z
X-MICROSOFT-CDO-ALLDAYEVENT:FALSE
SUMMARY:The Beat Goes On
DESCRIPTION:The Beat Goes On celebrates the grooviest\, hippest\, and most rockin' hits from the '60s\, '70s\, and '80s! Jam to the music of The Beatles and the Stones\, the Mamas and the Papas\, Donna Summer\, Prince\, Madonna\, and more. And if the music moves you\, break out the bell bottoms\, miniskirts\, leggings\, and scrunchies. Whether this cool collection of song and dance brings back memories or creates new ones\, you're sure to love every beat! Visit https://transcendencetheatre.org/whats-on/the-beat-goes-on/ to learn more and buy your tickets today!
X-ALT-DESC;FMTTYPE=text/html:The Beat Goes On celebrates the grooviest\, hippest\, and most rockin&rsquo\; hits from the &rsquo\;60s\, &rsquo\;70s\, and &rsquo\;80s! Jam to the music of The Beatles and the Stones\, the Mamas and the Papas\, Donna Summer\, Prince\, Madonna\, and more. And if the music moves you\, break out the bell bottoms\, miniskirts\, leggings\, and scrunchies. Whether this cool collection of song and dance brings back memories or creates new ones\, you&rsquo\;re sure to love every beat! Visit https://transcendencetheatre.org/whats-on/the-beat-goes-on/ to learn more and buy your tickets today!
LOCATION:2400 London Ranch Rd\, Glen Ellen\, CA 95442
UID:e.1308.16598
SEQUENCE:3
DTSTAMP:20260420T164940Z
URL:https://business.petalumachamber.us/events/details/the-beat-goes-on-16598
END:VEVENT

END:VCALENDAR
