BEGIN:VCALENDAR
VERSION:2.0
PRODID:-//ChamberMaster//Event Calendar 2.0//EN
METHOD:PUBLISH
X-PUBLISHED-TTL:P3D
REFRESH-INTERVAL:P3D
CALSCALE:GREGORIAN
BEGIN:VEVENT
DTSTART:20230729T000000Z
DTEND:20230821T050000Z
X-MICROSOFT-CDO-ALLDAYEVENT:FALSE
SUMMARY:The Full Monty
DESCRIPTION:Six friends. One outrageous idea. And a chance to make their dreams come true. The Broadway and West End sensation The Full Monty is Transcendence's first fully-staged musical since our 2019 smash-hit A Chorus Line. Written by Tony Award -winners Terrence McNally and David Yazbek\, The Full Monty tells a story that's full of heart. You'll be rooting for these down-on-their-luck pals from Buffalo\, and wondering up until the very end if they will really pull it off. Visit https://transcendencetheatre.org/whats-on/the-full-monty/ to learn more and buy your tickets today!
X-ALT-DESC;FMTTYPE=text/html:Six friends. One outrageous idea. And a chance to make their dreams come true. The Broadway and West End sensation The Full Monty is Transcendence&rsquo\;s first fully-staged musical since our 2019 smash-hit A Chorus Line. Written by Tony Award&reg\;-winners Terrence McNally and David Yazbek\, The Full Monty tells a story that&rsquo\;s full of heart. You&rsquo\;ll be rooting for these down-on-their-luck pals from Buffalo\, and wondering up until the very end if they will really pull it off. Visit https://transcendencetheatre.org/whats-on/the-full-monty/ to learn more and buy your tickets today!
LOCATION:Jack London State Historic Park\, 2400 London Ranch Rd\, Glen Ellen\, CA 95442
UID:e.1308.16599
SEQUENCE:3
DTSTAMP:20260420T151656Z
URL:https://business.petalumachamber.us/events/details/the-full-monty-16599
END:VEVENT

END:VCALENDAR
