BEGIN:VCALENDAR
VERSION:2.0
PRODID:-//ChamberMaster//Event Calendar 2.0//EN
METHOD:PUBLISH
X-PUBLISHED-TTL:P3D
REFRESH-INTERVAL:P3D
CALSCALE:GREGORIAN
BEGIN:VEVENT
DTSTART:20230729T020000Z
DTEND:20230729T030000Z
X-MICROSOFT-CDO-ALLDAYEVENT:FALSE
SUMMARY:The Greatest Show in the Park
DESCRIPTION:North Bay Theatrics Presents The Greatest Show in the Park\, inspired by the hit music of The Greatest Showman. The legend and ambitions of America's original pop-culture impresario\, P.T. Barnum\, comes an inspirational rags-to-riches tale of a brash dreamer who rose from nothing to prove that anything you can envision is possible and that everyone\, no matter how invisible\, has a stupendous story worthy of a world-class spectacle. Bring your family and friends\, pack a picnic basket and lawn chair and enjoy live theatre in the park!
X-ALT-DESC;FMTTYPE=text/html:North Bay Theatrics Presents The Greatest Show in the Park\, inspired by the hit music of The Greatest Showman. The legend and ambitions of America&rsquo\;s original pop-culture impresario\, P.T. Barnum\, comes an inspirational rags-to-riches tale of a brash dreamer who rose from nothing to prove that anything you can envision is possible and that everyone\, no matter how invisible\, has a stupendous story worthy of a world-class spectacle. Bring your family and friends\, pack a picnic basket and lawn chair and enjoy live theatre in the park!
LOCATION:La Plaza Park\, 15 W Sierra Ave\, Cotati\, CA 94931
UID:e.1308.16638
SEQUENCE:3
DTSTAMP:20260420T182052Z
URL:https://business.petalumachamber.us/events/details/the-greatest-show-in-the-park-16638
END:VEVENT

END:VCALENDAR
