BEGIN:VCALENDAR
VERSION:2.0
PRODID:-//ChamberMaster//Event Calendar 2.0//EN
METHOD:PUBLISH
X-PUBLISHED-TTL:P3D
REFRESH-INTERVAL:P3D
CALSCALE:GREGORIAN
BEGIN:VEVENT
DTSTART:20230730T000000Z
DTEND:20230730T030000Z
X-MICROSOFT-CDO-ALLDAYEVENT:FALSE
SUMMARY:The Greatest Show in the Park FUNdraiser
DESCRIPTION:Join North Bay Theatrics for a fun filled afternoon of food\, silent auction\, face painting\, and carnival games culminating with a student performance of The Greatest Show in the Park\, inspired by the hit movie The Greatest Showman. The legend and ambitions of America's original pop-culture impresario\, P.T. Barnum\, comes an inspirational rags-to-riches tale of a brash dreamer who rose from nothing to prove that anything you can envision is possible and that everyone\, no matter how invisible\, has a stupendous story worthy of a world-class spectacle. Proceeds from this event will support scholarships for students\, help keep our summer in the park series free for the community\, and aid additional program development.
X-ALT-DESC;FMTTYPE=text/html:Join North Bay Theatrics for a fun filled afternoon of food\, silent auction\, face painting\, and carnival games culminating with a student performance of The Greatest Show in the Park\, inspired by the hit movie The Greatest Showman. The legend and ambitions of America&rsquo\;s original pop-culture impresario\, P.T. Barnum\, comes an inspirational rags-to-riches tale of a brash dreamer who rose from nothing to prove that anything you can envision is possible and that everyone\, no matter how invisible\, has a stupendous story worthy of a world-class spectacle. Proceeds from this event will support scholarships for students\, help keep our summer in the park series free for the community\, and aid additional program development.
LOCATION:La Plaza Park\, 15 W Sierra Ave\, Cotati\, CA 94931
UID:e.1308.16639
SEQUENCE:3
DTSTAMP:20260420T165120Z
URL:https://business.petalumachamber.us/events/details/the-greatest-show-in-the-park-fundraiser-16639
END:VEVENT

END:VCALENDAR
