BEGIN:VCALENDAR
VERSION:2.0
PRODID:-//ChamberMaster//Event Calendar 2.0//EN
METHOD:PUBLISH
X-PUBLISHED-TTL:P3D
REFRESH-INTERVAL:P3D
CALSCALE:GREGORIAN
BEGIN:VEVENT
DTSTART:20230531T020000Z
DTEND:20230531T033000Z
X-MICROSOFT-CDO-ALLDAYEVENT:FALSE
SUMMARY:The Honey Girl of Auschwitz
DESCRIPTION:78 years since the liberation of Auschwitz\, there are not very many voices that can share the story of the Holocaust with our generation. Come touch history as 95-year-old Esther Basch\, nicknamed "The Honey Girl of Auschwitz"\, will share her firsthand account of her survival against all odds\, and how she rebuilt her life out of the shadows of darkness and ashes of destruction. Don't miss this unique and historic opportunity at the Spreckels Performing Arts Center. Be inspired to never give up hope and always see the light at the end of the tunnel. Open to the entire community!  Tuesday\, May 30th Main Event: 7:00pm   Doors Open: 6:15pm   VIP Meet & Greet: 5:45pm Tickets: Couvert: $25 - $35 Preferred Seating: $50 VIP Meet & Greet (@6:00pm): $100 Sponsor (Meet & Greet included): $180 Student discount: $10 off\, use code "neveragain" www.JewishPetaluma.com/Remember Proceeds from this event will be going to support Esther's documentary film and further Holocaust education.
X-ALT-DESC;FMTTYPE=text/html:78&nbsp\;years since the liberation of Auschwitz\, there are not very many voices that can share the story of the Holocaust with our generation. Come touch history as 95-year-old Esther Basch\, nicknamed &quot\;The Honey Girl of Auschwitz&quot\;\,&nbsp\;will share her firsthand account of her survival against all odds\, and how she rebuilt her life out of the shadows of darkness and ashes of destruction. Don&#39\;t miss this unique and historic opportunity at the Spreckels Performing Arts Center. Be inspired to never give up hope and always see the light at the end of the tunnel. Open to the entire community!&nbsp\; Tuesday\, May 30th Main Event: 7:00pm &bull\; Doors Open: 6:15pm &bull\; VIP Meet &amp\; Greet: 5:45pm Tickets: Couvert: $25 - $35 Preferred Seating: $50 VIP Meet &amp\; Greet (@6:00pm): $100 Sponsor (Meet &amp\; Greet included): $180 Student discount: $10 off\, use code&nbsp\;&quot\;neveragain&quot\; www.JewishPetaluma.com/Remember Proceeds from this event will be going to support Esther&#39\;s documentary film and further Holocaust&nbsp\;education.
LOCATION:At Spreckels Performing Arts Center 5409 Snyder Ln\, Rohnert Park\, CA 94928
UID:e.1308.16623
SEQUENCE:3
DTSTAMP:20260420T194658Z
URL:https://business.petalumachamber.us/events/details/the-honey-girl-of-auschwitz-16623
END:VEVENT

END:VCALENDAR
