BEGIN:VCALENDAR
VERSION:2.0
PRODID:-//ChamberMaster//Event Calendar 2.0//EN
METHOD:PUBLISH
X-PUBLISHED-TTL:P3D
REFRESH-INTERVAL:P3D
CALSCALE:GREGORIAN
BEGIN:VEVENT
DTSTART:20230819T010000Z
DTEND:20230819T040000Z
X-MICROSOFT-CDO-ALLDAYEVENT:FALSE
SUMMARY:The Killer Dueling Pianos - Encore Performance
DESCRIPTION:Due to popular demand\, they will return with another evening of fun on August 18th! Get ready for another evening of singing at the top of your lungs and dancing until your feet hurt\, as they take requests from the audience during this entertaining all-out battle. Set against the backdrop of the gorgeous vineyards of Alexander Valley and hosted on our iconic Pavilion stage (we'll let you guess which famous movie it's from!)\, join us for an evening of incredible wine\, food\, and live music. Doors open at 6pm for special evening menu of food\, wine\, and cocktails from the Pool Cafe\, followed by the main event kicking off at 7pm. Tickets are limited and will sell out quickly. If you've never experienced Dueling Pianos before\, grab your tickets before they are gone\, and then and check out The Killer Dueling Pianos website for previews and more!. *Attire is Wine Country Casual  but sequins are highly encouraged! All guests must be 21 years of age or older. Food and beverages are available a la carte for purchase\, and are not included in the ticket price. All seating is open seating. There are no reserved seats. Please drink responsibly.
X-ALT-DESC;FMTTYPE=text/html:Due to popular demand\, they will return with another evening of fun on August 18th! Get ready for another evening of singing at the top of your lungs and dancing until your feet hurt\, as they take requests from the audience during this entertaining all-out battle. Set against the backdrop of the gorgeous vineyards of Alexander Valley and hosted on our iconic Pavilion stage (we&rsquo\;ll let you guess which famous movie it&rsquo\;s from!)\, join us for an evening of incredible wine\, food\, and live music. Doors open at 6pm for special evening menu of food\, wine\, and cocktails from the Pool Cafe\, followed by the main event kicking off at 7pm. Tickets are limited and will sell out quickly. If you&rsquo\;ve never experienced Dueling Pianos before\, grab your tickets before they are gone\, and then and check out The Killer Dueling Pianos website for previews and more!. *Attire is Wine Country Casual&hellip\; but sequins are highly encouraged! All guests must be 21 years of age or older. Food and beverages are available a la carte for purchase\, and are not included in the ticket price. All seating is open seating. There are no reserved seats. Please drink responsibly.
LOCATION:Francis Ford Coppola Winery
UID:e.1308.16646
SEQUENCE:3
DTSTAMP:20260420T151656Z
URL:https://business.petalumachamber.us/events/details/the-killer-dueling-pianos-encore-performance-16646
END:VEVENT

END:VCALENDAR
