BEGIN:VCALENDAR
VERSION:2.0
PRODID:-//ChamberMaster//Event Calendar 2.0//EN
METHOD:PUBLISH
X-PUBLISHED-TTL:P3D
REFRESH-INTERVAL:P3D
CALSCALE:GREGORIAN
BEGIN:VEVENT
DTSTART:20220925T150000Z
DTEND:20220925T230000Z
X-MICROSOFT-CDO-ALLDAYEVENT:FALSE
SUMMARY:The Petaluma Fall Antique Faire
DESCRIPTION:Antique and collectible lovers throughout the Bay Area are welcome to come\, browse and shop the 36th Annual Petaluma Fall Antique Faire Sunday\, September 25. Admission is free. The Faire will be located on Kentucky Street\, Fourth Street\, in the A Street parking lot\, and on Western Avenue. "The Bay Area's Premier Antique Center\," Historic Downtown Petaluma will transform into an antique marketplace. Amid the beautiful historic buildings\, one-of-a-kind stores\, an incredible array of restaurants and cafes\, guests can find an incomparable selection of affordable antiques from over 200 dealers. The show has a nice variety of estate jewelry\, linens\, furniture\, art\, kitchenware\, vintage d cor\, books\, and all kinds of unusual collectibles to suit everyone's budget. This show attracts over 8\,000 discerning collectors as well as first-time buyers wishing to collect and invest in real antiques. Visit PetalumaDowntown.com for more information!
X-ALT-DESC;FMTTYPE=text/html:Antique and collectible lovers throughout the Bay Area are welcome to come\, browse and shop the 36th Annual Petaluma Fall Antique Faire Sunday\, September 25. Admission is free. The Faire will be located on Kentucky Street\, Fourth Street\, in the A Street parking lot\, and on Western Avenue. &quot\;The Bay Area&#39\;s Premier Antique Center\,&quot\; Historic Downtown Petaluma will transform into an antique marketplace. Amid the beautiful historic buildings\, one-of-a-kind stores\, an incredible array of restaurants and cafes\, guests can find an incomparable selection of affordable antiques from over 200 dealers. The show has a nice variety of estate jewelry\, linens\, furniture\, art\, kitchenware\, vintage d&eacute\;cor\, books\, and all kinds of unusual collectibles to suit everyone&#39\;s budget. This show attracts over 8\,000 discerning collectors as well as first-time buyers wishing to collect and invest in real antiques. Visit PetalumaDowntown.com for more information!
LOCATION:Historic Downtown Petaluma 20 4th Street\, Petaluma\, CA 94952
UID:e.1308.16560
SEQUENCE:3
DTSTAMP:20260421T084551Z
URL:https://business.petalumachamber.us/events/details/the-petaluma-fall-antique-faire-16560
END:VEVENT

END:VCALENDAR
