BEGIN:VCALENDAR
VERSION:2.0
PRODID:-//ChamberMaster//Event Calendar 2.0//EN
METHOD:PUBLISH
X-PUBLISHED-TTL:P3D
REFRESH-INTERVAL:P3D
CALSCALE:GREGORIAN
BEGIN:VEVENT
DTSTART:20230504T230000Z
DTEND:20230505T000000Z
X-MICROSOFT-CDO-ALLDAYEVENT:FALSE
SUMMARY:The Way of Self Care
DESCRIPTION:Self-care is important to everyone\, even those from a galaxy far\, far away. Join award winning holistic practitioner Dr. Melissa Durfey DACM\, LE aka My Self Care Doc for a fun and informative webinar that explores what we can learn about self care from a certain science fiction franchise that is near and dear to many of us. Be prepared for some laughs and probably a few puns while shifting your mindset and cultivating simple self care strategies. She will also lead you in a galactic inspired meditation that will be out of this world.\n\n\n\nEvent will be recorded.
X-ALT-DESC;FMTTYPE=text/html:<span style="color:rgb(85\, 85\, 85)\; font-family:raleway\,sans-serif\; font-size:16px">Self-care is important to everyone\, even those from a galaxy far\, far away. Join award winning holistic practitioner Dr. Melissa Durfey DACM\, LE aka My Self Care Doc for a fun and informative webinar that explores what we can learn about self care from a certain science fiction franchise that is near and dear to many of us. Be prepared for some laughs and probably a few puns while shifting your mindset and cultivating simple self care strategies. She will also lead you in a galactic inspired meditation that will be out of this world.</span><br />\n<br />\n<span style="color:rgb(85\, 85\, 85)\; font-family:raleway\,sans-serif\; font-size:16px">Event will be recorded.</span>
LOCATION:This virtual event will take place on Zoom. Click here to register and get the link.
UID:e.1308.16624
SEQUENCE:3
DTSTAMP:20260420T194617Z
URL:https://business.petalumachamber.us/events/details/the-way-of-self-care-16624
END:VEVENT

END:VCALENDAR
