BEGIN:VCALENDAR
VERSION:2.0
PRODID:-//ChamberMaster//Event Calendar 2.0//EN
METHOD:PUBLISH
X-PUBLISHED-TTL:P3D
REFRESH-INTERVAL:P3D
CALSCALE:GREGORIAN
BEGIN:VEVENT
DTSTART:20221006T010000Z
DTEND:20221006T020000Z
X-MICROSOFT-CDO-ALLDAYEVENT:FALSE
SUMMARY:Time Heals All Wounds & Other Myths About Grief
DESCRIPTION:It's a fact of life - we all have losses from time to time and feel bad. It's normal and natural. So why do we get stuck? The reason lies in the misunderstandings\, myths\, misinformation and help that is anything but normal and natural. Join Us For This FREE Info. Talk To Discover: *What grief is *The 6 myths of grief *What you can do about it This presentation is courtesy of - Melissa Maskell\, Reiki Masker & Grief Recovery Method Specialist and Dr. Melissa Dufrey DACM\, LE Doors open at 6pm Presentation starts at 6:30pm This is a free event.
X-ALT-DESC;FMTTYPE=text/html:It&#39\;s a fact of life - we all have losses from time to time and feel bad. It&#39\;s normal and natural. So why do we get stuck? The reason lies in the misunderstandings\, myths\, misinformation and help that is anything but normal and natural. Join Us For This FREE Info. Talk To Discover: *What grief is *The 6 myths of grief *What you can do about it This presentation is courtesy of - Melissa Maskell\, Reiki Masker &amp\; Grief Recovery Method Specialist and Dr. Melissa Dufrey DACM\, LE Doors open at 6pm Presentation starts at 6:30pm This is a free event.
LOCATION:Luminary Education Center\, Petaluma\, 1301 Southpoint Blvd\, Petaluma\, CA 94954\, USA\, Petaluma\, CA
UID:e.1308.16569
SEQUENCE:3
DTSTAMP:20260421T055623Z
URL:https://business.petalumachamber.us/events/details/time-heals-all-wounds-other-myths-about-grief-16569
END:VEVENT

END:VCALENDAR
