BEGIN:VCALENDAR
VERSION:2.0
PRODID:-//ChamberMaster//Event Calendar 2.0//EN
METHOD:PUBLISH
X-PUBLISHED-TTL:P3D
REFRESH-INTERVAL:P3D
CALSCALE:GREGORIAN
BEGIN:VEVENT
DTSTART:20230429T180000Z
DTEND:20230429T210000Z
X-MICROSOFT-CDO-ALLDAYEVENT:FALSE
SUMMARY:Transhumance Festival
DESCRIPTION:The Transhumance Festival is an annual celebration dedicated to reconnecting people to the land. ? ?The festival reintroduces the age-old practice of transhumance--the tradition of moving livestock from one grazing ground to another in a seasonal cycle. This free public festival includes engaging demonstrations on land stewardship practices\, soil and watershed health\, reconsidering our waste streams\, and sharing of culture. Join us for: Live music Interactive educational activities for all ages A local artisan marketplace Locally sourced food Sheep shearing Scything demonstration Community weaving demonstration
X-ALT-DESC;FMTTYPE=text/html:The Transhumance Festival is an annual celebration dedicated to reconnecting people to the land. ? ?The festival reintroduces the age-old practice of transhumance--the tradition of moving livestock from one grazing ground to another in a seasonal cycle. This free public festival includes engaging demonstrations on land stewardship practices\, soil and watershed health\, reconsidering our waste streams\, and sharing of culture. Join us for: Live music Interactive educational activities for all ages A local artisan marketplace Locally sourced food Sheep shearing Scything demonstration Community weaving demonstration
LOCATION:Steamer Landing Park\, Petaluma (off D St and Copeland St)
UID:e.1308.16621
SEQUENCE:3
DTSTAMP:20260420T211148Z
URL:https://business.petalumachamber.us/events/details/transhumance-festival-04-29-2023-16621
END:VEVENT

END:VCALENDAR
