BEGIN:VCALENDAR
VERSION:2.0
PRODID:-//ChamberMaster//Event Calendar 2.0//EN
METHOD:PUBLISH
X-PUBLISHED-TTL:P3D
REFRESH-INTERVAL:P3D
CALSCALE:GREGORIAN
BEGIN:VEVENT
DTSTART:20230520T000000Z
DTEND:20230520T023000Z
X-MICROSOFT-CDO-ALLDAYEVENT:FALSE
SUMMARY:Walk with Us
DESCRIPTION:We're here to help people of all ages feel safe and supported. Our programs connect our community with critical services. At the Walk with Us event\, we will enjoy premium Russian River Vineyards wine\, non-alcoholic beverages\, and copious hors d'oeuvre as we learn how WCCS is working every day to walk with our clients on their journey to healthier lives. Throughout the evening\, we will hear from WCCS leadership about current and future services\, as well as watch brief videos of clients we are partnering with on their path to success.
X-ALT-DESC;FMTTYPE=text/html:We&rsquo\;re here to help people of all ages feel safe and supported. Our programs connect our community with critical services. At the Walk with Us event\, we will enjoy premium Russian River Vineyards wine\, non-alcoholic beverages\, and copious hors d&rsquo\;oeuvre as we learn how WCCS is working every day to walk with our clients on their journey to healthier lives. Throughout the evening\, we will hear from WCCS leadership about current and future services\, as well as watch brief videos of clients we are partnering with on their path to success.
LOCATION:Russian River Vineyards 5700 Hwy 116 N Forestville California 95436
UID:e.1308.16617
SEQUENCE:3
DTSTAMP:20260420T194411Z
URL:https://business.petalumachamber.us/events/details/walk-with-us-16617
END:VEVENT

END:VCALENDAR
