BEGIN:VCALENDAR
VERSION:2.0
PRODID:-//ChamberMaster//Event Calendar 2.0//EN
METHOD:PUBLISH
X-PUBLISHED-TTL:P3D
REFRESH-INTERVAL:P3D
CALSCALE:GREGORIAN
BEGIN:VEVENT
DTSTART:20221209T200000Z
DTEND:20221210T000000Z
X-MICROSOFT-CDO-ALLDAYEVENT:FALSE
SUMMARY:Winter Wine and Food Pairing
DESCRIPTION:Winter Wine & Food Pairing Join us at Russian River Vineyards for a special Winter Wine & Food Pairing! The Kitchen at RRV has lovingly handcrafted four delectable small dishes to pair perfectly with four featured wines. Each small dish is thoughtfully created to complement its fine wine component. This Winter Wine & Food Pairing Experience will be available as follows: December 9th and 11th: seatings at 12:00\, 2:00\, & 4:00 PM Wine Club Members: $70 per person (Wine Club discount applied at checkout) Non-Members: $85 per person Vegetarian Options Available! Space is limited to 30 per seating and reservations are required.
X-ALT-DESC;FMTTYPE=text/html:Winter Wine &amp\; Food Pairing Join us at Russian River Vineyards for a special Winter Wine &amp\; Food Pairing! The Kitchen at RRV has lovingly handcrafted four delectable small dishes to pair perfectly with four featured wines. Each small dish is thoughtfully created to complement its fine wine component. This Winter Wine &amp\; Food Pairing Experience will be available as follows: December 9th and 11th: seatings at 12:00\, 2:00\, &amp\; 4:00 PM Wine Club Members: $70 per person (Wine Club discount applied at checkout) Non-Members: $85 per person Vegetarian Options Available! Space is limited to 30 per seating and reservations are required.
LOCATION:Russian River Vineyards 5700 Hwy 116 N. Forestville\, CA 95436
UID:e.1308.16591
SEQUENCE:3
DTSTAMP:20260421T031309Z
URL:https://business.petalumachamber.us/events/details/winter-wine-and-food-pairing-16591
END:VEVENT

END:VCALENDAR
