BEGIN:VCALENDAR
VERSION:2.0
PRODID:-//ChamberMaster//Event Calendar 2.0//EN
METHOD:PUBLISH
X-PUBLISHED-TTL:P3D
REFRESH-INTERVAL:P3D
CALSCALE:GREGORIAN
BEGIN:VEVENT
DTSTART:20220921T223000Z
DTEND:20220921T223000Z
X-MICROSOFT-CDO-ALLDAYEVENT:FALSE
SUMMARY:Women in Conversation
DESCRIPTION:Join us at our next Women in Conversation event featuring renowned superyacht captain\, beloved TV personality\, and all-around powerhouse Captain Sandra Yawn. As a loyal subscriber to The Press Democrat\, you get an exclusive $20 discount through this [date TBD]! CTA Button: Get tickets [socowomenevents.com] Promo code: [code TBD] Captain Sandy's photo Breaking barriers and never taking no for an answer. Captain Sandy shattered the glass ceiling in her industry to become one of the only accomplished female captains in an extremely male dominated space. Wednesday\, September 21\, 2022 Green Music Center at Sonoma State University 3:00 to 6:00 pm   The Experience (More than expo!) Inspirational speakers\, exciting activities\, shopping discoveries\, exclusive giveaways\, and delicious food trucks 6:30 to 8:00 pm   Women in Conversation Featuring Captain Sandra Yawn\, leader\, hero\, and renowned superyacht captain. Find out more at socowomenevents.com
X-ALT-DESC;FMTTYPE=text/html:Join us at our next Women in Conversation event featuring renowned superyacht captain\, beloved TV personality\, and all-around powerhouse Captain Sandra Yawn. As a loyal subscriber to The Press Democrat\, you get an exclusive $20 discount through this [date TBD]! CTA Button: Get tickets [socowomenevents.com] Promo code: [code TBD] Captain Sandy&rsquo\;s photo Breaking barriers and never taking no for an answer. Captain Sandy shattered the glass ceiling in her industry to become one of the only accomplished female captains in an extremely male dominated space. Wednesday\, September 21\, 2022 Green Music Center at Sonoma State University 3:00 to 6:00 pm &ndash\; The Experience (More than expo!) Inspirational speakers\, exciting activities\, shopping discoveries\, exclusive giveaways\, and delicious food trucks 6:30 to 8:00 pm &ndash\; Women in Conversation Featuring Captain Sandra Yawn\, leader\, hero\, and renowned superyacht captain. Find out more at socowomenevents.com
LOCATION:Green Music Center at Sonoma State University in Rohnert Park
UID:e.1308.16559
SEQUENCE:3
DTSTAMP:20260421T072803Z
URL:https://business.petalumachamber.us/events/details/women-in-conversation-09-21-2022-16559
END:VEVENT

END:VCALENDAR
