BEGIN:VCALENDAR
VERSION:2.0
PRODID:-//ChamberMaster//Event Calendar 2.0//EN
METHOD:PUBLISH
X-PUBLISHED-TTL:P3D
REFRESH-INTERVAL:P3D
CALSCALE:GREGORIAN
BEGIN:VEVENT
DTSTART:20220717T190000Z
DTEND:20220717T230000Z
X-MICROSOFT-CDO-ALLDAYEVENT:FALSE
SUMMARY:Women in Conversation Experience
DESCRIPTION:Celebrate women\, support local\, join in the experience. Join us for the ultimate experience   connecting\, empowering\, and supporting the women of Sonoma County. This fun afternoon on the lawn at Luther Burbank celebrates local women from all backgrounds - including dozens of exhibitors\, demonstrations\, activities\, and food trucks. -Hear from women in our community hosting interactive talks about their professional and personal journeys -Connect with the best products and services in Sonoma -Support local women-owned businesses -Experience exciting activities -Enjoy beer and wine -Meet dozens of exhibitors -Dance to music -Compete for prize drawings -Try local food trucks
X-ALT-DESC;FMTTYPE=text/html:Celebrate women\, support local\, join in the experience. Join us for the ultimate experience &ndash\; connecting\, empowering\, and supporting the women of Sonoma County. This fun afternoon on the lawn at Luther Burbank celebrates local women from all backgrounds - including dozens of exhibitors\, demonstrations\, activities\, and food trucks. -Hear from women in our community hosting interactive talks about their professional and personal journeys -Connect with the best products and services in Sonoma -Support local women-owned businesses -Experience exciting activities -Enjoy beer and wine -Meet dozens of exhibitors -Dance to music -Compete for prize drawings -Try local food trucks
LOCATION:Luther Burbank Center for the Arts
UID:e.1308.16552
SEQUENCE:3
DTSTAMP:20260421T112637Z
URL:https://business.petalumachamber.us/events/details/women-in-conversation-experience-16552
END:VEVENT

END:VCALENDAR
