BEGIN:VCALENDAR
VERSION:2.0
PRODID:-//ChamberMaster//Event Calendar 2.0//EN
METHOD:PUBLISH
X-PUBLISHED-TTL:P3D
REFRESH-INTERVAL:P3D
CALSCALE:GREGORIAN
BEGIN:VEVENT
DTSTART:20230316T160000Z
DTEND:20230316T180000Z
X-MICROSOFT-CDO-ALLDAYEVENT:FALSE
SUMMARY:Women in the Wine Business
DESCRIPTION:Hear from inspiring female innovators in the Napa and Sonoma Valley wine industry. Featuring: Stephanie Gallo\, Chief Marketing Officer at E. & J. Gallo Winery Jolene Yee\, General Counsel and Vice President of Government Affairs at Delicato Family Wines Lorez Bailey\, Publisher of the North Bay Business Journal
X-ALT-DESC;FMTTYPE=text/html:Hear from inspiring female innovators in the Napa and Sonoma Valley wine industry. Featuring: Stephanie Gallo\, Chief Marketing Officer at E. &amp\; J. Gallo Winery Jolene Yee\, General Counsel and Vice President of Government Affairs at Delicato Family Wines Lorez Bailey\, Publisher of the North Bay Business Journal
LOCATION:Freemark Abbey Winery 3022 Saint Helena Highway St. Helena\, CA 94574
UID:e.1308.16609
SEQUENCE:3
DTSTAMP:20260420T224153Z
URL:https://business.petalumachamber.us/events/details/women-in-the-wine-business-16609
END:VEVENT

END:VCALENDAR
