BEGIN:VCALENDAR
VERSION:2.0
PRODID:-//ChamberMaster//Event Calendar 2.0//EN
METHOD:PUBLISH
X-PUBLISHED-TTL:P3D
REFRESH-INTERVAL:P3D
CALSCALE:GREGORIAN
BEGIN:VEVENT
DTSTART:20231210T230000Z
DTEND:20231211T010000Z
X-MICROSOFT-CDO-ALLDAYEVENT:FALSE
SUMMARY:Women Veterans Panel Discussion
DESCRIPTION:The Petaluma Historical Library & Museum proudly presents a panel discussion with six incredible Women Veterans. Hear them share stories about their 70 years of service from 1953 through 2023.
X-ALT-DESC;FMTTYPE=text/html:The Petaluma Historical Library &amp\; Museum proudly presents a panel discussion with six incredible Women Veterans. Hear them share stories about their 70 years of service from 1953 through 2023.
LOCATION:Petaluma Historical Library & Museum
UID:e.1308.16861
SEQUENCE:3
DTSTAMP:20260420T093746Z
URL:https://business.petalumachamber.us/events/details/women-veterans-panel-discussion-16861
END:VEVENT

END:VCALENDAR
