BEGIN:VCALENDAR
VERSION:2.0
PRODID:-//ChamberMaster//Event Calendar 2.0//EN
METHOD:PUBLISH
X-PUBLISHED-TTL:P3D
REFRESH-INTERVAL:P3D
CALSCALE:GREGORIAN
BEGIN:VEVENT
DTSTART:20230321T200000Z
DTEND:20230321T230000Z
X-MICROSOFT-CDO-ALLDAYEVENT:FALSE
SUMMARY:Work with us at Francis Ford Coppola Winery!
DESCRIPTION:We're Hiring! Come join us at our Hiring Event on March 21st\, from 1-4pm at Francis Ford Coppola Winery\, in Geyserville! Voted one of the Best Places to Work in the North Bay multiple years in a row\, Francis Ford Coppola Winery is looking for creative\, dynamic\, and passionate people to join our team!
X-ALT-DESC;FMTTYPE=text/html:We&rsquo\;re Hiring! Come join us at our Hiring Event on March 21st\, from 1-4pm at Francis Ford Coppola Winery\, in Geyserville! Voted one of the Best Places to Work in the North Bay multiple years in a row\, Francis Ford Coppola Winery is looking for creative\, dynamic\, and passionate people to join our team!
LOCATION:Francis Ford Coppola Winery
UID:e.1308.16618
SEQUENCE:3
DTSTAMP:20260420T223911Z
URL:https://business.petalumachamber.us/events/details/work-with-us-at-francis-ford-coppola-winery-16618
END:VEVENT

END:VCALENDAR
