BEGIN:VCALENDAR
VERSION:2.0
PRODID:-//ChamberMaster//Event Calendar 2.0//EN
METHOD:PUBLISH
X-PUBLISHED-TTL:P3D
REFRESH-INTERVAL:P3D
CALSCALE:GREGORIAN
BEGIN:VEVENT
DTSTART:20220622T160000Z
DTEND:20220624T190000Z
X-MICROSOFT-CDO-ALLDAYEVENT:FALSE
SUMMARY:Youth Circus Workshop with Flynn Creek Circus at Luther Burbank Center for the Arts\, Santa Rosa
DESCRIPTION:Santa Rosa Circus Camp 2022! Fun\, physical activity in an open air environment! Kids will have room to play and learn in the colorful big top with the guidance of the professional circus staff. This limited enrollment workshop will train students in skills such as aerial arts\, illusion\, and acrobatics while maintaining comprehensive safety. Limited enrollment for children ages 7-15. Signup information at https://flynncreekcircus.ticketspice.com/2022-santa-rosa-circus-camp.
X-ALT-DESC;FMTTYPE=text/html:Santa Rosa Circus Camp 2022! Fun\, physical activity in an open air environment! Kids will have room to play and learn in the colorful big top with the guidance of the professional circus staff. This limited enrollment workshop will train students in skills such as aerial arts\, illusion\, and acrobatics while maintaining comprehensive safety. Limited enrollment for children ages 7-15. Signup information at https://flynncreekcircus.ticketspice.com/2022-santa-rosa-circus-camp.
LOCATION:Santa Rosa circus camp will be held at the Luther Burbank Center\, under the big top. 50 Marks West Springs Road\, Santa Rosa CA\, 95403.
UID:e.1308.16547
SEQUENCE:3
DTSTAMP:20260421T113415Z
URL:https://business.petalumachamber.us/events/details/youth-circus-workshop-with-flynn-creek-circus-at-luther-burbank-center-for-the-arts-santa-rosa-16547
END:VEVENT

END:VCALENDAR
