BEGIN:VCALENDAR
VERSION:2.0
PRODID:-//ChamberMaster//Event Calendar 2.0//EN
METHOD:PUBLISH
X-PUBLISHED-TTL:P3D
REFRESH-INTERVAL:P3D
CALSCALE:GREGORIAN
BEGIN:VEVENT
DTSTART:20220727T163000Z
DTEND:20220729T193000Z
X-MICROSOFT-CDO-ALLDAYEVENT:FALSE
SUMMARY:Youth Circus Workshop with Flynn Creek Circus at Sonoma-Marin Fairgrounds\, Petaluma
DESCRIPTION:Petaluma Circus Camp 2022! Fun\, physical activity in an open air environment! Kids will have room to play and learn in the colorful big top with the guidance of the professional circus staff. This limited enrollment workshop will train students in skills such as aerial arts\, illusion\, and acrobatics while maintaining comprehensive safety. Limited enrollment for children ages 7-15.
X-ALT-DESC;FMTTYPE=text/html:Petaluma Circus Camp 2022! Fun\, physical activity in an open air environment! Kids will have room to play and learn in the colorful big top with the guidance of the professional circus staff. This limited enrollment workshop will train students in skills such as aerial arts\, illusion\, and acrobatics while maintaining comprehensive safety. Limited enrollment for children ages 7-15.
LOCATION:Sonoma-Marin Fairgrounds Carnival Lot. 175 Fairgrounds Drive\, Petaluma\, CA\, 94952
UID:e.1308.16544
SEQUENCE:3
DTSTAMP:20260421T113236Z
URL:https://business.petalumachamber.us/events/details/youth-circus-workshop-with-flynn-creek-circus-at-sonoma-marin-fairgrounds-petaluma-16544
END:VEVENT

END:VCALENDAR
