BEGIN:VCALENDAR
VERSION:2.0
PRODID:-//ChamberMaster//Event Calendar 2.0//EN
METHOD:PUBLISH
X-PUBLISHED-TTL:P3D
REFRESH-INTERVAL:P3D
CALSCALE:GREGORIAN
BEGIN:VEVENT
DTSTART:20220713T160000Z
DTEND:20220715T190000Z
X-MICROSOFT-CDO-ALLDAYEVENT:FALSE
SUMMARY:Youth Circus Workshop with Flynn Creek Circus at the Community Center Complex\, Rohnert Park
DESCRIPTION:Rohnert Park Circus Camp 2022! Fun\, physical activity in an open air environment! Kids will have room to play and learn in the colorful big top with the guidance of the professional circus staff. This limited enrollment workshop will train students in skills such as aerial arts\, illusion\, and acrobatics while maintaining comprehensive safety. Limited enrollment for children ages 7-15. Signup information at https://flynncreekcircus.ticketspice.com/rohnert-park-circus-camp.
X-ALT-DESC;FMTTYPE=text/html:Rohnert Park Circus Camp 2022! Fun\, physical activity in an open air environment! Kids will have room to play and learn in the colorful big top with the guidance of the professional circus staff. This limited enrollment workshop will train students in skills such as aerial arts\, illusion\, and acrobatics while maintaining comprehensive safety. Limited enrollment for children ages 7-15. Signup information at https://flynncreekcircus.ticketspice.com/rohnert-park-circus-camp.
LOCATION:Rohnert Park Community Center Complex\, under the big top. 5401 Snyder Lane\, Rohnert Park\, CA\, 94928.
UID:e.1308.16549
SEQUENCE:3
DTSTAMP:20260421T102808Z
URL:https://business.petalumachamber.us/events/details/youth-circus-workshop-with-flynn-creek-circus-at-the-community-center-complex-rohnert-park-16549
END:VEVENT

END:VCALENDAR
